BEGIN:VCALENDAR
VERSION:2.0
PRODID:-//Stadtjugendring Heidelberg - ECPv6.13.2.1//NONSGML v1.0//EN
CALSCALE:GREGORIAN
METHOD:PUBLISH
X-ORIGINAL-URL:https://www.sjr-heidelberg.de
X-WR-CALDESC:Veranstaltungen für Stadtjugendring Heidelberg
REFRESH-INTERVAL;VALUE=DURATION:PT1H
X-Robots-Tag:noindex
X-PUBLISHED-TTL:PT1H
BEGIN:VTIMEZONE
TZID:Europe/Berlin
BEGIN:DAYLIGHT
TZOFFSETFROM:+0100
TZOFFSETTO:+0200
TZNAME:CEST
DTSTART:20230326T010000
END:DAYLIGHT
BEGIN:STANDARD
TZOFFSETFROM:+0200
TZOFFSETTO:+0100
TZNAME:CET
DTSTART:20231029T010000
END:STANDARD
END:VTIMEZONE
BEGIN:VEVENT
DTSTART;TZID=Europe/Berlin:20230805T183000
DTEND;TZID=Europe/Berlin:20230805T213000
DTSTAMP:20260420T021424
CREATED:20230426T103653Z
LAST-MODIFIED:20230726T074738Z
UID:15004-1691260200-1691271000@www.sjr-heidelberg.de
SUMMARY:60. Konzert - Let's Dance!
DESCRIPTION:In diesem Jahr findet das 60. Konzert des Cambridge\, Heidelberg\, Montpellier\, Youth Orchestra (CHMYO) statt. \n \nFür diesen Anlass haben unsere Dirigenten (DE – Georg Schmidt-Thomée\, FR – Olivier Vaissette\, GB – Matthew Gunn)  besondere Stücke und Komponisten ausgesucht.\n \nBorodin – Debussy – Lutoslawski – Marquez – Rachmaninow  u. a.\n \nWir freuen uns Sie an diesem Abend im Bürgerhaus Emmertsgrund (Forum 1\, 69126 Heidelberg) begrüßen zu dürfen.\n \nAufgrund der begrenzten Plätze bitten wir um Anmeldung zu dem Konzert. Wir melden uns zeitnah bei Ihnen\, wenn Sie nicht bei dem Konzert dabei sein können. \nKonzerttermin:\n📅  Samstag 05.08.23\,\n🕓 Einlass 18:30 Uhr\, Konzertbeginn 19 Uhr\n🚩 Bürgerhaus Emmertsgrund\nEintritt kostenlos \nAnmeldung erforderlich – eine Abendkasse ist nicht vorhanden. \n(Es gibt keine automatische Antwort. Bitte melden Sie sich nicht mehrfach an.) \nAnmeldeschluss: Freitag\, 04. August 23\, 18 Uhr \n 
URL:https://www.sjr-heidelberg.de/termin/abschlusskonzert-chmyo-2023
LOCATION:Bürgerhaus Emmertsgrund\, Forum 1\, Heidelberg\, Deutschland
CATEGORIES:Events
ATTACH;FMTTYPE=image/jpeg:https://www.sjr-heidelberg.de/wp-content/blogs.dir/1/files/2023/04/180804_Stadtjugendring-Heidelberg_Austausch-Orchester_Konzert_529-scaled-e1682505276550.jpg
ORGANIZER;CN="Stadtjugendring Heidelberg":MAILTO:info@sjr-hd.de
END:VEVENT
END:VCALENDAR