BEGIN:VCALENDAR
VERSION:2.0
PRODID:-//Stadtjugendring Heidelberg - ECPv6.13.2.1//NONSGML v1.0//EN
CALSCALE:GREGORIAN
METHOD:PUBLISH
X-ORIGINAL-URL:https://www.sjr-heidelberg.de
X-WR-CALDESC:Veranstaltungen für Stadtjugendring Heidelberg
REFRESH-INTERVAL;VALUE=DURATION:PT1H
X-Robots-Tag:noindex
X-PUBLISHED-TTL:PT1H
BEGIN:VTIMEZONE
TZID:Europe/Berlin
BEGIN:DAYLIGHT
TZOFFSETFROM:+0100
TZOFFSETTO:+0200
TZNAME:CEST
DTSTART:20250330T010000
END:DAYLIGHT
BEGIN:STANDARD
TZOFFSETFROM:+0200
TZOFFSETTO:+0100
TZNAME:CET
DTSTART:20251026T010000
END:STANDARD
BEGIN:DAYLIGHT
TZOFFSETFROM:+0100
TZOFFSETTO:+0200
TZNAME:CEST
DTSTART:20260329T010000
END:DAYLIGHT
BEGIN:STANDARD
TZOFFSETFROM:+0200
TZOFFSETTO:+0100
TZNAME:CET
DTSTART:20261025T010000
END:STANDARD
END:VTIMEZONE
BEGIN:VEVENT
DTSTART;TZID=Europe/Berlin:20260325T183000
DTEND;TZID=Europe/Berlin:20260325T220000
DTSTAMP:20260421T173221
CREATED:20251203T140326Z
LAST-MODIFIED:20251203T141213Z
UID:17865-1774463400-1774476000@www.sjr-heidelberg.de
SUMMARY:Prävention von sexualisierter Gewalt in der Arbeit mit Kindern und Jugendlichen
DESCRIPTION:KJR Karlsruhe in Kooperation mit der Gemeinde Oberderdingen sowie dem Jugendamt des Landkreises\nReferent*innen:\nStephanie Vogt\, Rechtsanwältin für Strafrecht und Opferrechte\, Karlsruhe\nSimon Erhardt\, Polizeihauptkommissar\, Polizeipräsidium Karlsruhe\nSamira Seidler\, Präventionsfachkraft\, Wildwasser Karlsruhe e.V.\nModeration:\nAylin Balsoy-Schuster\, Dipl. Sozialwissenschaftlerin\, Geschäftsleitung des KJR und Bildungsreferentin\nSeriöse Schätzungen gehen davon aus\, dass jedes dritte bis vierte Mädchen und jeder neunte bis zwölfte Junge von sexueller Gewalt betroffen ist. Rein statistisch gesehen gibt es also in allen Kinder- und Jugendgruppen Betroffene. Häufig versuchen Täter\, sich dort einzuschleichen\, wo sie Kontakte und Beziehungen zu Mädchen und Jungen aufbauen können. \nDeshalb ist es ein Qualitätsmerkmal guter Kinder- und Jugendarbeit\, sich diesem Thema zu stellen und Schutzmaßnahmen gegen sexuelle Gewalt einzuführen. \nViele Fragen tun sich auf:\nWie muss ich als Verantwortliche*r reagieren?\nWie helfe ich dem betroffenen Kind?\nMuss die Polizei eingeschaltet werden?\nWie können wir uns davor schützen\, dass ein solcher Vorfall bei uns passiert? \nDiese Fortbildung will auf solche Fragen Antworten geben. Ehrenamtliche Mitarbeiter*innen im Verein sollen befähigt werden\, Grenzüberschreitungen zu erkennen. Sie sollen über geeignete Handlungsmöglichkeiten verfügen und Sicherheit in der Umsetzung geeigneter Präventionsmaßnahmen erlangen. \nWeiterhin wird ein Maßnahmenkatalog vorgestellt\, wie präventives Handeln und umfassende Präventionsmaßnahmen zum Schutz von Mädchen und Jungen im Verein oder Jugendverband umgesetzt und verankert werden können. \nWeitere Informationen auf dem Flyer des KJR unter www.kjr-ka.de. \nTermin: Mittwoch\, 25.03.2026\nZeit: 18.30 – 22.00 Uhr\nOrt: Aschingerhalle\, An der Hässel 4\, 75038 Oberderdingen\nAnmeldung und Kontakt: Mandy Mauch\, Mauch@oberderdingen.net\nKosten: Die Kosten tragen die Veranstalter.\n \nAnmeldung bis spätestens Mi. 18.03.2026 \n 
URL:https://www.sjr-heidelberg.de/termin/praevention-von-sexualisierter-gewalt-in-der-arbeit-mit-kindern-und-jugendlichen
CATEGORIES:Events,Seminare
ATTACH;FMTTYPE=image/jpeg:https://www.sjr-heidelberg.de/wp-content/blogs.dir/1/files/2025/12/fb-praevention-von-sexualisierter-gewalt.jpg
ORGANIZER;CN="Kreisjugendring Karlsruhe":MAILTO:info@kjr-ka.de
END:VEVENT
BEGIN:VEVENT
DTSTART;TZID=Europe/Berlin:20260319T180000
DTEND;TZID=Europe/Berlin:20260319T210000
DTSTAMP:20260421T173221
CREATED:20251203T135602Z
LAST-MODIFIED:20251203T144557Z
UID:17862-1773943200-1773954000@www.sjr-heidelberg.de
SUMMARY:Das Beschwerde­management – FB-Reihe Prävention sexualisierter Gewalt
DESCRIPTION:Zuhören\, ernst nehmen\, handeln – Strukturen für eine gelebte Feedbackkultur\nFortbildungsreihe zum Thema ­Prävention sexualisierter Gewalt\nReferent: Jakob Wolfrum\nFachstelle PriJuS – Prävention in Jugendarbeit und Sport\, Stadtjugendausschuss e.V. Karlsruhe\nEin funktionierendes Beschwerdemanagement ist ein zentraler Bestandteil des Kinder- und Jugendschutzes. Es schafft vertrauensvolle Strukturen\, in denen Kinder\, Jugendliche und auch Mitarbeitende ihre Anliegen\, Sorgen oder Kritik äußern können – und ernst genommen werden. \nIm Workshop beschäftigen wir uns mit den Grundlagen und Zielen von Beschwerdestrukturen in Organisationen. Gemeinsam schauen wir darauf\, wie ein transparentes und zugängliches Beschwerdemanagement gestaltet werden kann: Welche Wege der Rückmeldung gibt es bereits? Welche Ansprechpersonen sind benannt? Wie wird mit Beschwerden umgegangen? \nDie Teilnehmenden entwickeln erste Ideen\, wie ein Beschwerdemanagement passgenau in ihrer Organisation verankert werden kann. Sie erhalten praxisnahe Impulse\, wie Beschwerden nicht als Störung\, sondern als Chance zur Weiterentwicklung genutzt werden können – im Sinne einer offenen\, partizipativen Kultur. \nTermin: Donnerstag\, 19.03.2026\nZeit: 18.00 bis 21.00 Uhr\nOrt: Aktions- und Zirkusbüro Otto D.\, Wolfartsweierer Str. 11\, 76137 Karlsruhe\nKosten: 10\,– € (inkl. Verpflegung)\nAnmeldung bis spätestens Do. 12.03.2026
URL:https://www.sjr-heidelberg.de/termin/das-beschwerdemanagement-fb-reihe-praevention-sexualisierter-gewalt
LOCATION:Aktions und Zirkusbüro Otto D\,\, Wolfartsweierer Str. 11\, Karlsruhe\, 76137
CATEGORIES:Events,Seminare
ATTACH;FMTTYPE=image/jpeg:https://www.sjr-heidelberg.de/wp-content/blogs.dir/1/files/2025/12/bv-beschwerdemanagement.jpg
ORGANIZER;CN="Kreisjugendring Karlsruhe":MAILTO:info@kjr-ka.de
END:VEVENT
BEGIN:VEVENT
DTSTART;TZID=Europe/Berlin:20260220T140000
DTEND;TZID=Europe/Berlin:20260329T170000
DTSTAMP:20260421T173221
CREATED:20251203T133742Z
LAST-MODIFIED:20251203T133820Z
UID:17856-1771596000-1774803600@www.sjr-heidelberg.de
SUMMARY:KJR - Karlsruhe Ausbildung zum*r Jugendleiter*in 2026
DESCRIPTION:Du möchtest dich in der Jugendarbeit engagieren und Verantwortung übernehmen?\nWir bieten dir die kompakte Ausbildung zum/zur Jugendleiter/in (Juleica) – praxisnah\, persönlich und zukunftsorientiert! \nHier lernst du alles Wichtige\, um Gruppen zu begleiten und spannende Aktionen zu planen: Von den Aufgaben und deiner eigenen Rolle als Jugendleiter*in über Projekte organisieren bis hin zu neuen Methoden\, Kommunikations- und Spielideen. \nAußerdem bekommst du Tipps rund um die Jugendarbeit in Baden-Württemberg\, lernst\, wie du mit schwierigen Situationen und Konflikten umgehst und erfährst alles über rechtliche Fragen wie Aufsichtspflicht und Jugendschutz. \nVielfalt und Inklusion sind uns wichtig – daher zeigen wir dir\, wie alle jungen Menschen mitmachen können. Öffentlichkeitsarbeit und die Vertretung von Interessen stehen ebenso auf dem Programm. \nDu tauschst dich mit anderen aus\, bekommst Raum für deine Fragen und entwickelst dich persönlich weiter – damit du bestens vorbereitet bist\, kreative\, sichere und abwechslungsreiche Angebote für Kinder und Jugendliche zu gestalten! \nDie gesamte Ausbildung findet an zwei Wochenenden im kommenden Jahr statt: So ermöglichen wir dir\, auch mit wenig Zeit flexibel und intensiv alle wesentlichen Inhalte zu erlernen und dich optimal auf deine Aufgaben vorzubereiten. \nDie Teilnahme ist offen für Interessierte ab 16 Jahren\, in Ausnahmefällen auch ab 15 Jahren. Vorkenntnisse sind nicht erforderlich. \nNach erfolgreicher Teilnahme kannst du die Juleica beantragen! Aber denk daran\, dass du dafür auch eine Erste Hilfe Ausbildung benötigst. Diese kannst du beim DRK-Kreisverband absolvieren. \nMelde dich bis zum 31.01.2026 an und sichere dir deinen Platz zur Ausbildung als Jugend­leiter*in. Zur Auffrischung der Juleica können auch einzelne Tage gebucht werden. \nFür Rückfragen und weitere Informationen wende dich bitte an:\nAylin Balsoy-Schuster\nMail: a.balsoy-schuster@kjr-ka.de\nTelefon: 07251 / 30 20 427 oder 0151 / 42 07 74 03\nWerde Teil einer engagierten Gemeinschaft und gestalte die Jugendarbeit in Baden-Württemberg mit! Wir freuen uns auf dich! \nDie gesamte Ausbildung umfasst zwei Wochenenden. \nTermin: Fr. – So.\, 20.02. – 22.02.2026 und Fr. – So.\, 27.03. – 29.03.2026 \nAbfahrt: freitags 14.00 Uhr von Bruchsal\nAnkunft: sonntags ca. 17.00 Uhr in Bruchsal\nAbfahrt und Ankunft: Haus der Begegnung\, Tunnelstraße 27\, 76646 Bruchsal\nKosten: insg. 250\,– € (inkl. Übernachtung und Verpflegung)\nAnmeldung bis spätestens Sa. 31.01.2026 
URL:https://www.sjr-heidelberg.de/termin/kjr-karlsruhe-ausbildung-zumr-jugendleiterin-2026
LOCATION:Haus der Begegnung\, Tunnelstraße 27\, Bruchsal\, 6646\, Deutschland
CATEGORIES:Praevention,Seminare
ATTACH;FMTTYPE=image/png:https://www.sjr-heidelberg.de/wp-content/blogs.dir/1/files/2025/09/Juelica-Bild.png
ORGANIZER;CN="Kreisjugendring Karlsruhe":MAILTO:info@kjr-ka.de
END:VEVENT
BEGIN:VEVENT
DTSTART;TZID=Europe/Berlin:20250424T100000
DTEND;TZID=Europe/Berlin:20250424T160000
DTSTAMP:20260421T173221
CREATED:20251203T144315Z
LAST-MODIFIED:20251203T144315Z
UID:17869-1745488800-1745510400@www.sjr-heidelberg.de
SUMMARY:Psychische Auffällig­keiten bei Jugendlichen verstehen
DESCRIPTION:Zwischen Individualität und ­Überforderung – sicher handeln im pädagogischen Alltag\nReferentin: Berit Hiddeßen\, Dipl. Sozialarbeiterin\, zertifizierte systemische Therapeutin und Heilpraktikerin für Psychotherapie (nach HPG)\nManche Jugendliche ziehen sich stark zurück\, haben kaum noch soziale Kontakte oder wirken dauerhaft überfordert. Andere ecken ständig an\, geraten in Konflikte oder verletzen sich selbst. Solche Verhaltensweisen werfen bei pädagogischen Fachkräften berechtigte Fragen auf: Ist das noch normal – oder Hinweis auf eine ernsthafte psychische Belastung? \nDiese Fortbildung bietet Orientierung im Umgang mit auffälligem Verhalten und unterstützt dabei\, individuelle Reaktionen einzuordnen – ohne zu diagnostizieren. Im Fokus steht die professionelle Haltung: sicher begleiten\, ohne therapieren zu wollen. Statt „Was hat der Jugendliche?“ fragen wir: „Was braucht er gerade – und was brauche ich?“ \nTermin: Freitag\, 24.04.2026\nZeit: 10.00 bis 16.00 Uhr\nOrt: Haus der Begegnung\, Tunnelstr. 27\, 76646 Bruchsal\nKosten: 30\,– € (inkl. Verpflegung)\nAnmeldung bis spätestens Fr. 17.04.2026 \n 
URL:https://www.sjr-heidelberg.de/termin/psychische-auffaelligkeiten-bei-jugendlichen-verstehen
LOCATION:Haus der Begegnung\, Tunnelstraße 27\, Bruchsal\, 6646\, Deutschland
CATEGORIES:Events,Seminare
ATTACH;FMTTYPE=image/jpeg:https://www.sjr-heidelberg.de/wp-content/blogs.dir/1/files/2025/12/fb-psychische-auffaelligkeiten-bei-jugendlichen-1.jpg
ORGANIZER;CN="Kreisjugendring Karlsruhe":MAILTO:info@kjr-ka.de
END:VEVENT
END:VCALENDAR