BEGIN:VCALENDAR
VERSION:2.0
PRODID:-//Stadtjugendring Heidelberg - ECPv6.13.2.1//NONSGML v1.0//EN
CALSCALE:GREGORIAN
METHOD:PUBLISH
X-WR-CALNAME:Stadtjugendring Heidelberg
X-ORIGINAL-URL:https://www.sjr-heidelberg.de
X-WR-CALDESC:Veranstaltungen für Stadtjugendring Heidelberg
REFRESH-INTERVAL;VALUE=DURATION:PT1H
X-Robots-Tag:noindex
X-PUBLISHED-TTL:PT1H
BEGIN:VTIMEZONE
TZID:Europe/Berlin
BEGIN:DAYLIGHT
TZOFFSETFROM:+0100
TZOFFSETTO:+0200
TZNAME:CEST
DTSTART:20240331T010000
END:DAYLIGHT
BEGIN:STANDARD
TZOFFSETFROM:+0200
TZOFFSETTO:+0100
TZNAME:CET
DTSTART:20241027T010000
END:STANDARD
END:VTIMEZONE
BEGIN:VEVENT
DTSTART;TZID=Europe/Berlin:20240427T093000
DTEND;TZID=Europe/Berlin:20240428T163000
DTSTAMP:20260422T120614
CREATED:20240209T154211Z
LAST-MODIFIED:20240221T213615Z
UID:16130-1714210200-1714321800@www.sjr-heidelberg.de
SUMMARY:Workshop: Kinderschutz und Erarbeitung von Schutzkonzepten
DESCRIPTION:Zweitägiger Workshop “Prävention sexualisierte Gewalt” \npowered by eveeno.de
URL:https://www.sjr-heidelberg.de/termin/workshop-kinderschutz-und-erarbeitung-von-schutzkonzepten
LOCATION:Haus am Harbigweg (Stadtjugendring)\, Harbigweg 5\, Heidelberg\, 69124\, Deutschland
CATEGORIES:Events,Praevention,Seminare
ATTACH;FMTTYPE=image/png:https://www.sjr-heidelberg.de/wp-content/blogs.dir/1/files/2024/02/Workshop_-Kein_Raum-1.png
ORGANIZER;CN="Stadtjugendring Heidelberg":MAILTO:info@sjr-hd.de
END:VEVENT
END:VCALENDAR